BEGIN:VCALENDAR
VERSION:2.0
PRODID:-//EFFECT Photonics - ECPv6.15.18//NONSGML v1.0//EN
CALSCALE:GREGORIAN
METHOD:PUBLISH
X-WR-CALNAME:EFFECT Photonics
X-ORIGINAL-URL:https://effectphotonics.com
X-WR-CALDESC:Events for EFFECT Photonics
REFRESH-INTERVAL;VALUE=DURATION:PT1H
X-Robots-Tag:noindex
X-PUBLISHED-TTL:PT1H
BEGIN:VTIMEZONE
TZID:Europe/Helsinki
BEGIN:DAYLIGHT
TZOFFSETFROM:+0200
TZOFFSETTO:+0300
TZNAME:EEST
DTSTART:20200329T010000
END:DAYLIGHT
BEGIN:STANDARD
TZOFFSETFROM:+0300
TZOFFSETTO:+0200
TZNAME:EET
DTSTART:20201025T010000
END:STANDARD
BEGIN:DAYLIGHT
TZOFFSETFROM:+0200
TZOFFSETTO:+0300
TZNAME:EEST
DTSTART:20210328T010000
END:DAYLIGHT
BEGIN:STANDARD
TZOFFSETFROM:+0300
TZOFFSETTO:+0200
TZNAME:EET
DTSTART:20211031T010000
END:STANDARD
BEGIN:DAYLIGHT
TZOFFSETFROM:+0200
TZOFFSETTO:+0300
TZNAME:EEST
DTSTART:20220327T010000
END:DAYLIGHT
BEGIN:STANDARD
TZOFFSETFROM:+0300
TZOFFSETTO:+0200
TZNAME:EET
DTSTART:20221030T010000
END:STANDARD
BEGIN:DAYLIGHT
TZOFFSETFROM:+0200
TZOFFSETTO:+0300
TZNAME:EEST
DTSTART:20230326T010000
END:DAYLIGHT
BEGIN:STANDARD
TZOFFSETFROM:+0300
TZOFFSETTO:+0200
TZNAME:EET
DTSTART:20231029T010000
END:STANDARD
END:VTIMEZONE
BEGIN:VEVENT
DTSTART;TZID=Europe/Helsinki:20220930T080000
DTEND;TZID=Europe/Helsinki:20220930T170000
DTSTAMP:20260422T112806
CREATED:20210127T095222Z
LAST-MODIFIED:20220930T100028Z
UID:9565-1664524800-1664557200@effectphotonics.com
SUMMARY:EFFECT Photonics exhibits at the Photonics+ Virtual Exhibition and Conference
DESCRIPTION:EFFECT Photonics\, a leading developer of high-performance dense wavelength division multiplexing (DWDM) optical components based on its optical System-on-Chip technology\, will be exhibiting from February 17-18 2021 at the Photonics+ Virtual Exhibition and Conference\, Feb 17-18\, 2021. Photonics+ is a new networking event for the photonics industry and is arranged in partnership with EPIC (European Photonics Industry Consortium). \nJoin us with your colleagues\, peers and over 250 international exhibitors and top speakers from the photonics industry at the Photonics+ event. The event consists of two afternoons for networking\, business\, sharing ideas\, learning\, and discussing new trends. With more than 5000 online visitors expected\, a special AI enabled matchmaking function helps everyone find the right people and the right companies to get the most out of this major event. \nThe virtual exhibition hall works in a similar way to a physical exhibition. Browse the event hall and visit our virtual booth\, watch our video\, and download content such as product briefs and technical articles\, schedule a meeting with a member of the EFFECT Photonics Team\, and watch the EFFECT Photonics CTO Tim Koene give a presentation on “High-volume InP Photonic Integrated Circuits for Telecom and Sensing”. \nEFFECT Photonics in a nutshell \nAddressing the global need for higher bandwidth at affordable costs to end consumers\, optical transceiver module solutions for modern telecommunication networks play a vital role. EFFECT Photonics has developed an InP (Indium Phosphide) photonics based System-on-Chip (SoC) technology to provide a new generation of flexible\, and due to its extremely low power consumption\, green and sustainable solutions for the market. By integrating ALL functions of an optical transceiver system onto a single photonic integrated chip (PIC)\, utilizing a unique in-house developed non-hermetic packaging technology\, which removes the need for expensive hermetic (“gold box”) packaging\, and combining it with scalable 3” and 4” wafer manufacturing\, EFFECT Photonics is able to produce DWDM direct detect and coherent transceivers very cost-effectively. Because of this unique approach\, EFFECT Photonics has established itself firmly to the forefront of high-tech photonics industry\, serving both the telecom and sensing markets. \nEFFECT Photonics has a production facility in Torbay (Brixham)\, UK. Torbay has a long tradition in the area of high-quality precision manufacturing and a strong photonics ecosystem which has been built over the last 50 years. At the Brixham facility\, EFFECT Photonics is dedicated in developing and testing of packaging methods and is also one of the production facilities of the company. \nWith headquarters in Eindhoven\, The Netherlands\, EFFECT Photonics is an integral part of the European photonics research community. EFFECT Photonics is a member of the PhotonDelta Flagship Project. PhotonDelta is a growing ecosystem in Europe that covers a network of companies and knowledge institutes that intensively co-operates for the last 25 years in the research\, design\, development and manufacturing of integrated photonics technologies and components. \nWe would like to welcome you at our booth at the Photonics Photonics+ Virtual Exhibition and Conference. Register here for free: https://www.photonicsplus.com/epic/effectphotonics \nFor further information please contact sales@effectphotonics.com or visit www.effectphotonics.com
URL:https://effectphotonics.com/event/effect-photonics-exhibits-at-the-photonics-virtual-exhibition-and-conference/
LOCATION:Photonics+ Virtual Exhibition and Conference\, Virtual Online
CATEGORIES:Events
ATTACH;FMTTYPE=image/jpeg:https://effectphotonics.com/wp-content/uploads/2021/01/Generic.jpg
ORGANIZER;CN="EPIC":MAILTO:anna.martensson@epic-assoc.com
END:VEVENT
BEGIN:VEVENT
DTSTART;TZID=Europe/Helsinki:20210217T080000
DTEND;TZID=Europe/Helsinki:20210218T170000
DTSTAMP:20260422T112806
CREATED:20210216T084541Z
LAST-MODIFIED:20221020T142524Z
UID:9554-1613548800-1613667600@effectphotonics.com
SUMMARY:Get FREE entry to the Photonics Plus Virtual Exhibition and Conference
DESCRIPTION:EFFECT Photonics\, a leading developer of high-performance dense wavelength division multiplexing (DWDM) optical components based on its optical System-on-Chip technology\, will be exhibiting from February 17-18 2021 at the Photonics+ Virtual Exhibition and Conference\, and we would love to see you there. If you are interested in getting free access to the event and meeting us at our virtual booth\, please email us at sales@effectphotonics.com to provide you a FREE entry ticket. \nThe event consists of two afternoons for networking\, business\, sharing ideas\, learning\, and discussing new trends. With more than 5000 online visitors expected\, a special AI enabled matchmaking function helps everyone find the right people and the right companies to get the most out of this major event. The virtual exhibition hall works in a similar way to a physical exhibition. Browse the event hall and visit our virtual booth\, watch our video\, and download content such as product briefs and technical articles\, schedule a meeting with a member of the EFFECT Photonics Team\, and watch the EFFECT Photonics CTO Tim Koene give a presentation on “High-volume InP Photonic Integrated Circuits for Telecom and Sensing”. More information here: https://effectphotonics.com/effect-photonics-exhibits-at-the-photonics-virtual-exhibition-and-conference/ \nDue to limited number of available free entry tickets\, we have prioritized the tickets on a first-come\, first-serve base. Please email us today if you would like to get free access to the event and get advantage of this special promotion. \n– About EFFECT Photonics – \nEFFECT Photonics delivers highly integrated optical communications products based on its Dense Wavelength Division Multiplexing (DWDM) optical System-on-Chip technology. The key enabling technology for DWDM systems is full monolithic integration of all photonic components within a single chip and being able to produce these in volume with high yield at low cost. With this capability\, EFFECT Photonics is addressing the need for low cost DWDM solutions driven by the soaring demand for high bandwidth connections between datacenters and back from mobile cell towers. Headquartered in Eindhoven\, The Netherlands\, with additional R&D and manufacturing in South West UK\, with sales partners worldwide. www.effectphotonics.com
URL:https://effectphotonics.com/event/get-free-entry-to-the-photonics-plus-virtual-exhibition-and-conference/
LOCATION:Photonics+ Virtual Exhibition and Conference\, Virtual Online
CATEGORIES:Events
ATTACH;FMTTYPE=image/jpeg:https://effectphotonics.com/wp-content/uploads/2021/02/EP_HTVD_Website.jpg
END:VEVENT
END:VCALENDAR