BEGIN:VCALENDAR
VERSION:2.0
PRODID:-//EFFECT Photonics - ECPv6.15.18//NONSGML v1.0//EN
CALSCALE:GREGORIAN
METHOD:PUBLISH
X-WR-CALNAME:EFFECT Photonics
X-ORIGINAL-URL:https://effectphotonics.com
X-WR-CALDESC:Events for EFFECT Photonics
REFRESH-INTERVAL;VALUE=DURATION:PT1H
X-Robots-Tag:noindex
X-PUBLISHED-TTL:PT1H
BEGIN:VTIMEZONE
TZID:Europe/London
BEGIN:DAYLIGHT
TZOFFSETFROM:+0000
TZOFFSETTO:+0100
TZNAME:BST
DTSTART:20220327T010000
END:DAYLIGHT
BEGIN:STANDARD
TZOFFSETFROM:+0100
TZOFFSETTO:+0000
TZNAME:GMT
DTSTART:20221030T010000
END:STANDARD
BEGIN:DAYLIGHT
TZOFFSETFROM:+0000
TZOFFSETTO:+0100
TZNAME:BST
DTSTART:20230326T010000
END:DAYLIGHT
BEGIN:STANDARD
TZOFFSETFROM:+0100
TZOFFSETTO:+0000
TZNAME:GMT
DTSTART:20231029T010000
END:STANDARD
BEGIN:DAYLIGHT
TZOFFSETFROM:+0000
TZOFFSETTO:+0100
TZNAME:BST
DTSTART:20240331T010000
END:DAYLIGHT
BEGIN:STANDARD
TZOFFSETFROM:+0100
TZOFFSETTO:+0000
TZNAME:GMT
DTSTART:20241027T010000
END:STANDARD
END:VTIMEZONE
BEGIN:VEVENT
DTSTART;TZID=Europe/London:20230621T170000
DTEND;TZID=Europe/London:20230621T180000
DTSTAMP:20260420T164503
CREATED:20230616T074714Z
LAST-MODIFIED:20230628T145527Z
UID:12387-1687366800-1687370400@effectphotonics.com
SUMMARY:Lightwave Webinar: The Pluggable Transceiver Revolution
DESCRIPTION:Discover the transformative power of coherent pluggable optics in the realm of optical communications networks. Traditionally\, transceivers have played a vital role in these networks\, but now we are witnessing a paradigm shift. Coherent pluggable optics are assuming new responsibilities\, especially in router-to-router links for data center interconnect and service provider IP over DWDM\, as well as IP/optical layer integration. The significance of pluggable optics in open line systems is increasingly evident\, revolutionizing network infrastructure. \nMoreover\, transmission rates are soaring from 400GbE to 800GbE\, with an astounding 1.6TbE on the horizon. This webinar will delve into these trends across various applications and explore the optimal utilization of current and emerging modules. Join us as we unravel the potential of cutting-edge technology in optical communications networks. \n  \nTopics will Include:\n\nCoherent pluggable optics in router-to-router links\nData center interconnect and service provider IP over DWDM\nIP/optical layer integration\nPluggable optics in open line systems\nTransmission rates: From 400GbE to 800GbE and beyond\n\n  \nSpeakers:\n\nJon Baldry (Metro Marketing Director\, Infinera)\nJoost Verberk (Director of Product Management\, EFFECT Photonics)\nAnabel Alarcon (Product Manager\, EXFO)\nTho Quang Nguyen (Lead Application Engineer – Thermal\, Henkel Corporation)\nStephen Hardy (Editorial Director\, Lightwave)\n\n  \nWatch the Recording
URL:https://effectphotonics.com/event/lightwave-webinar-the-pluggable-transceiver-revolution/
LOCATION:Lightwave\, Virtual Online
CATEGORIES:Events,Webinar
ATTACH;FMTTYPE=image/webp:https://effectphotonics.com/wp-content/uploads/2023/06/plugs-cables-white-green-1.webp
END:VEVENT
END:VCALENDAR