BEGIN:VCALENDAR
VERSION:2.0
PRODID:-//EFFECT Photonics - ECPv6.15.18//NONSGML v1.0//EN
CALSCALE:GREGORIAN
METHOD:PUBLISH
X-ORIGINAL-URL:https://effectphotonics.com
X-WR-CALDESC:Events for EFFECT Photonics
REFRESH-INTERVAL;VALUE=DURATION:PT1H
X-Robots-Tag:noindex
X-PUBLISHED-TTL:PT1H
BEGIN:VTIMEZONE
TZID:Europe/Amsterdam
BEGIN:DAYLIGHT
TZOFFSETFROM:+0100
TZOFFSETTO:+0200
TZNAME:CEST
DTSTART:20220327T010000
END:DAYLIGHT
BEGIN:STANDARD
TZOFFSETFROM:+0200
TZOFFSETTO:+0100
TZNAME:CET
DTSTART:20221030T010000
END:STANDARD
BEGIN:DAYLIGHT
TZOFFSETFROM:+0100
TZOFFSETTO:+0200
TZNAME:CEST
DTSTART:20230326T010000
END:DAYLIGHT
BEGIN:STANDARD
TZOFFSETFROM:+0200
TZOFFSETTO:+0100
TZNAME:CET
DTSTART:20231029T010000
END:STANDARD
BEGIN:DAYLIGHT
TZOFFSETFROM:+0100
TZOFFSETTO:+0200
TZNAME:CEST
DTSTART:20240331T010000
END:DAYLIGHT
BEGIN:STANDARD
TZOFFSETFROM:+0200
TZOFFSETTO:+0100
TZNAME:CET
DTSTART:20241027T010000
END:STANDARD
END:VTIMEZONE
BEGIN:VEVENT
DTSTART;TZID=Europe/Amsterdam:20230608T090000
DTEND;TZID=Europe/Amsterdam:20230609T170000
DTSTAMP:20260422T121420
CREATED:20230525T112924Z
LAST-MODIFIED:20230613T085625Z
UID:12144-1686214800-1686330000@effectphotonics.com
SUMMARY:Discover Where Light Meets Digital at the Dutch Technology Festival
DESCRIPTION:Join EFFECT Photonics on June 8th and 9th\, 2023 at the Dutch Technology Festival – Klokgebouw Eindhoven\, the Netherlands.   \nGet ready to experience an exhilarating festival that will take you on a mind-blowing journey into the future of ‘technology’.  Young individuals\, students\, and professionals will come together to witness the awe-inspiring world of possibilities in store for their careers and education. You’ll delve into the realms of security\, sustainability\, health\, energy\, food\, and mobility. Prepare to be amazed as you explore the very forefront of innovation and discover the incredible potential that lies ahead! \nCome and discover firsthand\, at EFFECT Photonics\, how our technology is transforming where light meets digital\, and learn how EFFECT Photonics’ full portfolio of optical building blocks is enabling 100G coherent to the network edge and next-generation applications. \nExplore Our Demos:\nBuild Your Own 100G ZR Coherent Module \nSee how easy and affordable it can be to upgrade existing 10G links to a more scalable 100G coherent solution! Try your hand at constructing a 100G ZR coherent module specifically designed for the network edge utilizing various optical building blocks including tunable lasers\, DSPs and optical subassemblies. \nTune Your Own PIC (Photonic Integrated Circuit)\nBe sure to stop by to tune your own PIC with EFFECT Photonics technology. In this interactive and dynamic demonstration\, participants can explore first-hand the power of EFFECT Photonics solutions utilizing various parameters and product configurations. \n 
URL:https://effectphotonics.com/event/where-light-meets-digital-at-the-dtf/
LOCATION:Klokgebouw Eindhoven\, Torenallee 26-22\, Eindhoven\, 5617 BA\, Netherlands
CATEGORIES:Dutch Tech Fest,Events
ATTACH;FMTTYPE=image/webp:https://effectphotonics.com/wp-content/uploads/2023/05/SAEYS_DTF_Mission_Tech-1920x1281-1.webp
END:VEVENT
END:VCALENDAR