BEGIN:VCALENDAR
VERSION:2.0
PRODID:-//EFFECT Photonics - ECPv6.15.18//NONSGML v1.0//EN
CALSCALE:GREGORIAN
METHOD:PUBLISH
X-ORIGINAL-URL:https://effectphotonics.com
X-WR-CALDESC:Events for EFFECT Photonics
REFRESH-INTERVAL;VALUE=DURATION:PT1H
X-Robots-Tag:noindex
X-PUBLISHED-TTL:PT1H
BEGIN:VTIMEZONE
TZID:Europe/Helsinki
BEGIN:DAYLIGHT
TZOFFSETFROM:+0200
TZOFFSETTO:+0300
TZNAME:EEST
DTSTART:20190331T010000
END:DAYLIGHT
BEGIN:STANDARD
TZOFFSETFROM:+0300
TZOFFSETTO:+0200
TZNAME:EET
DTSTART:20191027T010000
END:STANDARD
BEGIN:DAYLIGHT
TZOFFSETFROM:+0200
TZOFFSETTO:+0300
TZNAME:EEST
DTSTART:20200329T010000
END:DAYLIGHT
BEGIN:STANDARD
TZOFFSETFROM:+0300
TZOFFSETTO:+0200
TZNAME:EET
DTSTART:20201025T010000
END:STANDARD
BEGIN:DAYLIGHT
TZOFFSETFROM:+0200
TZOFFSETTO:+0300
TZNAME:EEST
DTSTART:20210328T010000
END:DAYLIGHT
BEGIN:STANDARD
TZOFFSETFROM:+0300
TZOFFSETTO:+0200
TZNAME:EET
DTSTART:20211031T010000
END:STANDARD
END:VTIMEZONE
BEGIN:VEVENT
DTSTART;TZID=Europe/Helsinki:20201125T080000
DTEND;TZID=Europe/Helsinki:20201125T170000
DTSTAMP:20260419T213600
CREATED:20201117T101656Z
LAST-MODIFIED:20220930T105313Z
UID:9577-1606291200-1606323600@effectphotonics.com
SUMMARY:EFFECT Photonics at Deep Tech 2020 – Tech Tour
DESCRIPTION:EFFECT Photonics\, a leading developer of high-performance dense wavelength division multiplexing (DWDM) optical components based on its optical System-on-Chip technology\, has been selected to pitch on November 25\, 2020 at the Deep Tech 2020 – Tech Tour\, one of world’s leading meeting places for game-changers in deep tech. \nThe event: \nMeet 100+ game-changers in Deep Tech: \n\nInvestment and partnership around 50 selected growth companies: 15 in Hardware & Systems\, 20 in Software\, and 15 in Space & Quantum\nGrowth phase: companies seeking series A\, B & C investments phase or revenues strong traction seeking also strategic partnerships\nProgramme with 10 online sessions or services for selection\, strategy\, meetings\, and recognition\nSelection or invitation-only for the best entrepreneurs and most active investors\, corporations\, and governmental experts\n\nOur CEO\, James Regan\, will be taking the stage and will give insight into the EFFECT Photonics’ unique integrated photonics technology. EFFECT Photonics is the first company in the world to introduce a full optical system-on-chip (SoC) – combining all the optical elements needed for optical networking onto a single die. One key application of EFFECT Photonics’ SoC technology is within dense wavelength division multiplexing (DWDM)\, and this is regarded as an important innovation in optical networks. DWDM is scalable\, transparent and enables provision of high-bandwidth services. It is the technology of choice for many networking applications today. By using many different wavelengths of light to route data\, these systems are more efficient\, flexible\, and cost-effective to build\, own and operate compared to single-channel\, point-to-point links. Thanks to our high-density electrical interconnect and packaging technology\, the optical system-on-a-chip can be assembled for volume manufacture at low cost. \nLet us talk at Deep Tech 2020 Deep Tech\, we will show how EFFECT Photonics will revolutionize the integrated photonics market with our Optical SoC technology. Sign in to Tech Tour here . \nFor more on our technology\, visit: https://effectphotonics.com/technology/ \nGet in touch with us for further information by sending your request to: sales@effectphotonics.com
URL:https://effectphotonics.com/event/effect-photonics-at-deep-tech-2020-tech-tour/
LOCATION:Deep Tech Tour 2020\, Deep Tech Tour 2020
CATEGORIES:Events
ATTACH;FMTTYPE=image/jpeg:https://effectphotonics.com/wp-content/uploads/2020/11/EP_Deep-Tech_Website_02.jpg
END:VEVENT
END:VCALENDAR