BEGIN:VCALENDAR
VERSION:2.0
PRODID:-//EFFECT Photonics - ECPv6.15.18//NONSGML v1.0//EN
CALSCALE:GREGORIAN
METHOD:PUBLISH
X-WR-CALNAME:EFFECT Photonics
X-ORIGINAL-URL:https://effectphotonics.com
X-WR-CALDESC:Events for EFFECT Photonics
REFRESH-INTERVAL;VALUE=DURATION:PT1H
X-Robots-Tag:noindex
X-PUBLISHED-TTL:PT1H
BEGIN:VTIMEZONE
TZID:Europe/Helsinki
BEGIN:DAYLIGHT
TZOFFSETFROM:+0200
TZOFFSETTO:+0300
TZNAME:EEST
DTSTART:20190331T010000
END:DAYLIGHT
BEGIN:STANDARD
TZOFFSETFROM:+0300
TZOFFSETTO:+0200
TZNAME:EET
DTSTART:20191027T010000
END:STANDARD
BEGIN:DAYLIGHT
TZOFFSETFROM:+0200
TZOFFSETTO:+0300
TZNAME:EEST
DTSTART:20200329T010000
END:DAYLIGHT
BEGIN:STANDARD
TZOFFSETFROM:+0300
TZOFFSETTO:+0200
TZNAME:EET
DTSTART:20201025T010000
END:STANDARD
BEGIN:DAYLIGHT
TZOFFSETFROM:+0200
TZOFFSETTO:+0300
TZNAME:EEST
DTSTART:20210328T010000
END:DAYLIGHT
BEGIN:STANDARD
TZOFFSETFROM:+0300
TZOFFSETTO:+0200
TZNAME:EET
DTSTART:20211031T010000
END:STANDARD
END:VTIMEZONE
BEGIN:VEVENT
DTSTART;TZID=Europe/Helsinki:20201008T170000
DTEND;TZID=Europe/Helsinki:20201008T190000
DTSTAMP:20260420T121719
CREATED:20201008T111541Z
LAST-MODIFIED:20240806T065457Z
UID:9594-1602176400-1602183600@effectphotonics.com
SUMMARY:EFFECT Photonics at INPHO Venture Summit 2020
DESCRIPTION:EFFECT Photonics\, a leading developer of high-performance dense wavelength division multiplexing (DWDM) optical components based on its optical System-on-Chip technology\, is attending INPHO Venture Summit 2020\, one of world’s leading meeting places for tech companies and hand-picked decision-makers interested in transformative technology investment. INPHO Venture Summit 2020 is fully online for 4 weeks and is launching on October 8. \nThe EVENT: \nSince 2008\, INPHO Venture Summit is a high-end space where tech royalty leaders\, private investors and large corporations meet to invest in promising solutions to shape the future. The event aims to tackle our world’s most pressing challenges through disruptive technologies. \n200 GUESTS hand-picked decision-makers interested in transformative technology investment \n20 SPEAKERS world-known and forward-thinking \n15 COUNTRIES from Europe\, USA\, China\, Japan\, Israel \n4 WEEKS of fireside chats\, showroom\, pitching and networking \nOur CEO\, James Regan\, will be taking the stage at pitches and panel discussions and will give insight into the EFFECT Photonics’ unique integrated photonics technology. EFFECT Photonics is the first company in the world to introduce a full optical system-on-chip (SoC) – combining all the optical elements needed for optical networking onto a single die. One key application of EFFECT Photonics’ SoC technology is within dense wavelength division multiplexing (DWDM)\, and this is regarded as an important innovation in optical networks. DWDM is scalable\, transparent and enables provision of high-bandwidth services. It is the technology of choice for many networking applications today. By using many different wavelengths of light to route data\, these systems are more efficient\, flexible\, and cost-effective to build\, own and operate compared to single-channel\, point-to-point links. Thanks to our high-density electrical interconnect and packaging technology\, the optical system-on-a-chip can be assembled for volume manufacture at low cost. \nLet us talk at our virtual booth at INPHO Venture Summit\, we will show how EFFECT Photonics will revolutionize the integrated photonics market with our Optical SoC technology. \nFor more on our technology\, visit: https://effectphotonics.com/technology/ \nGet in touch with us for further information by sending your request to: sales@effectphotonics.com
URL:https://effectphotonics.com/event/effect-photonics-at-inpho-venture-summit-2020/
LOCATION:INPHO Online\, Online Virtual
CATEGORIES:Events
ATTACH;FMTTYPE=image/jpeg:https://effectphotonics.com/wp-content/uploads/2022/09/Industries_5G_Solution-1.jpg
END:VEVENT
END:VCALENDAR